BEGIN:VCALENDAR
VERSION:2.0
PRODID:-//Marietta Community House - ECPv6.15.20//NONSGML v1.0//EN
CALSCALE:GREGORIAN
METHOD:PUBLISH
X-ORIGINAL-URL:https://mariettacommunityhouse.org
X-WR-CALDESC:Events for Marietta Community House
REFRESH-INTERVAL;VALUE=DURATION:PT1H
X-Robots-Tag:noindex
X-PUBLISHED-TTL:PT1H
BEGIN:VTIMEZONE
TZID:America/New_York
BEGIN:DAYLIGHT
TZOFFSETFROM:-0500
TZOFFSETTO:-0400
TZNAME:EDT
DTSTART:20250309T070000
END:DAYLIGHT
BEGIN:STANDARD
TZOFFSETFROM:-0400
TZOFFSETTO:-0500
TZNAME:EST
DTSTART:20251102T060000
END:STANDARD
BEGIN:DAYLIGHT
TZOFFSETFROM:-0500
TZOFFSETTO:-0400
TZNAME:EDT
DTSTART:20260308T070000
END:DAYLIGHT
BEGIN:STANDARD
TZOFFSETFROM:-0400
TZOFFSETTO:-0500
TZNAME:EST
DTSTART:20261101T060000
END:STANDARD
BEGIN:DAYLIGHT
TZOFFSETFROM:-0500
TZOFFSETTO:-0400
TZNAME:EDT
DTSTART:20270314T070000
END:DAYLIGHT
BEGIN:STANDARD
TZOFFSETFROM:-0400
TZOFFSETTO:-0500
TZNAME:EST
DTSTART:20271107T060000
END:STANDARD
END:VTIMEZONE
BEGIN:VEVENT
DTSTART;TZID=America/New_York:20260530T110000
DTEND;TZID=America/New_York:20260530T140000
DTSTAMP:20260425T094426
CREATED:20250129T135930Z
LAST-MODIFIED:20260422T194513Z
UID:1025-1780138800-1780149600@mariettacommunityhouse.org
SUMMARY:Children's Festival
DESCRIPTION:Pancake Breakfast				\n				\n				\n				\n									Bring your family and friends along for a morning of warmth\, camaraderie\, and delicious food. Proceeds from this fundraiser will be used toward the upkeep of The Marietta Community House.  As you savor each bite\, you’ll also have the chance to meet and greet our dedicated MCH board members\, who will be cooking\, serving\, and cleaning up throughout the event. It’s an excellent opportunity to put faces to the names behind the scenes and learn more about our exciting plans for the future. Your participation not only fills your plate but also fills our community with support and positivity. Together\, let’s create a memorable morning and pave the way for a brighter future at The Marietta Community House. Menu Highlights: Fluffy PancakesScrambled EggsSavory SausagesFreshly Brewed CoffeeComforting TeaTicket pricing and information to come. 
URL:https://mariettacommunityhouse.org/event/childrens-festival/
LOCATION:Marietta Community House\, 264 W. Market Street\, Marietta\, PA\, 17547\, United States
ATTACH;FMTTYPE=image/jpeg:https://mariettacommunityhouse.org/wp-content/uploads/2025/01/ChildrensFaire-scaled.jpg
END:VEVENT
BEGIN:VEVENT
DTSTART;TZID=America/New_York:20260607T110000
DTEND;TZID=America/New_York:20260607T160000
DTSTAMP:20260425T094426
CREATED:20240321T135242Z
LAST-MODIFIED:20260422T193320Z
UID:507-1780830000-1780848000@mariettacommunityhouse.org
SUMMARY:Marietta Garden Tour & Pork BBQ
DESCRIPTION:Pancake Breakfast				\n				\n				\n				\n									Bring your family and friends along for a morning of warmth\, camaraderie\, and delicious food. Proceeds from this fundraiser will be used toward the upkeep of The Marietta Community House.  As you savor each bite\, you’ll also have the chance to meet and greet our dedicated MCH board members\, who will be cooking\, serving\, and cleaning up throughout the event. It’s an excellent opportunity to put faces to the names behind the scenes and learn more about our exciting plans for the future. Your participation not only fills your plate but also fills our community with support and positivity. Together\, let’s create a memorable morning and pave the way for a brighter future at The Marietta Community House. Menu Highlights: Fluffy PancakesScrambled EggsSavory SausagesFreshly Brewed CoffeeComforting TeaTicket pricing and information to come. 
URL:https://mariettacommunityhouse.org/event/marietta-garden-tour-pork-bbq/
LOCATION:Marietta Community House\, 264 W. Market Street\, Marietta\, PA\, 17547\, United States
ATTACH;FMTTYPE=image/jpeg:https://mariettacommunityhouse.org/wp-content/uploads/2025/06/MCH-13013-GardenTour-header-scaled.jpg
END:VEVENT
BEGIN:VEVENT
DTSTART;TZID=America/New_York:20261017T080000
DTEND;TZID=America/New_York:20261017T100000
DTSTAMP:20260425T094426
CREATED:20250724T123030Z
LAST-MODIFIED:20260422T193441Z
UID:1363-1792224000-1792231200@mariettacommunityhouse.org
SUMMARY:Pancake Breakfast
DESCRIPTION:Pancake Breakfast				\n				\n				\n				\n									Bring your family and friends along for a morning of warmth\, camaraderie\, and delicious food. Proceeds from this fundraiser will be used toward the upkeep of The Marietta Community House.  As you savor each bite\, you’ll also have the chance to meet and greet our dedicated MCH board members\, who will be cooking\, serving\, and cleaning up throughout the event. It’s an excellent opportunity to put faces to the names behind the scenes and learn more about our exciting plans for the future. Your participation not only fills your plate but also fills our community with support and positivity. Together\, let’s create a memorable morning and pave the way for a brighter future at The Marietta Community House. Menu Highlights: Fluffy PancakesScrambled EggsSavory SausagesFreshly Brewed CoffeeComforting TeaTicket pricing and information to come. 
URL:https://mariettacommunityhouse.org/event/pancake-breakfast/
LOCATION:Marietta Community House\, 264 W. Market Street\, Marietta\, PA\, 17547\, United States
ATTACH;FMTTYPE=image/jpeg:https://mariettacommunityhouse.org/wp-content/uploads/2025/07/MCH-13039-PancakeBreakfast-WebsiteEvent.jpg
END:VEVENT
BEGIN:VEVENT
DTSTART;TZID=America/New_York:20261108T140000
DTEND;TZID=America/New_York:20261108T150000
DTSTAMP:20260425T094426
CREATED:20240913T180052Z
LAST-MODIFIED:20260422T193606Z
UID:961-1794146400-1794150000@mariettacommunityhouse.org
SUMMARY:Veterans Day Program
DESCRIPTION:Pancake Breakfast				\n				\n				\n				\n									Bring your family and friends along for a morning of warmth\, camaraderie\, and delicious food. Proceeds from this fundraiser will be used toward the upkeep of The Marietta Community House.  As you savor each bite\, you’ll also have the chance to meet and greet our dedicated MCH board members\, who will be cooking\, serving\, and cleaning up throughout the event. It’s an excellent opportunity to put faces to the names behind the scenes and learn more about our exciting plans for the future. Your participation not only fills your plate but also fills our community with support and positivity. Together\, let’s create a memorable morning and pave the way for a brighter future at The Marietta Community House. Menu Highlights: Fluffy PancakesScrambled EggsSavory SausagesFreshly Brewed CoffeeComforting TeaTicket pricing and information to come. 
URL:https://mariettacommunityhouse.org/event/veterans-day-program/
LOCATION:Marietta Community House\, 264 W. Market Street\, Marietta\, PA\, 17547\, United States
ATTACH;FMTTYPE=image/jpeg:https://mariettacommunityhouse.org/wp-content/uploads/2024/09/MCH-13040-VeteransDay-Banners2.jpg
END:VEVENT
BEGIN:VEVENT
DTSTART;TZID=America/New_York:20261206T110000
DTEND;TZID=America/New_York:20261206T170000
DTSTAMP:20260425T094426
CREATED:20250129T140129Z
LAST-MODIFIED:20260422T193710Z
UID:1030-1796554800-1796576400@mariettacommunityhouse.org
SUMMARY:Christmas Market
DESCRIPTION:Pancake Breakfast				\n				\n				\n				\n									Bring your family and friends along for a morning of warmth\, camaraderie\, and delicious food. Proceeds from this fundraiser will be used toward the upkeep of The Marietta Community House.  As you savor each bite\, you’ll also have the chance to meet and greet our dedicated MCH board members\, who will be cooking\, serving\, and cleaning up throughout the event. It’s an excellent opportunity to put faces to the names behind the scenes and learn more about our exciting plans for the future. Your participation not only fills your plate but also fills our community with support and positivity. Together\, let’s create a memorable morning and pave the way for a brighter future at The Marietta Community House. Menu Highlights: Fluffy PancakesScrambled EggsSavory SausagesFreshly Brewed CoffeeComforting TeaTicket pricing and information to come. 
URL:https://mariettacommunityhouse.org/event/christmas-market-2/
LOCATION:Marietta Community House\, 264 W. Market Street\, Marietta\, PA\, 17547\, United States
ATTACH;FMTTYPE=image/jpeg:https://mariettacommunityhouse.org/wp-content/uploads/2025/01/MCH-13019-ChristmasVendorMarket-Headers2.jpg
END:VEVENT
END:VCALENDAR